BEGIN:VCALENDAR
PRODID:-//Mon 70 plus - Mon 70 2526//elderskatesmen.itzhockey.com//
X-WR-CALNAME:Mon 70 plus - Mon 70 2526
X-WR-TIMEZONE:America/Toronto

BEGIN:VEVENT
UID:3415-20250922103000@elderskatesmen.itzhockey.com
DTSTART:20250922T103000
DTEND:20250922T113000
SUMMARY;ENCODING=QUOTED-PRINTABLE:League Game Light Mon 70 2526 vs Dark Mon 70 2526
LOCATION;ENCODING=QUOTED-PRINTABLE:Richcraft Sensplex East
PRIORITY:3
END:VEVENT

BEGIN:VEVENT
UID:3416-20250929103000@elderskatesmen.itzhockey.com
DTSTART:20250929T103000
DTEND:20250929T113000
SUMMARY;ENCODING=QUOTED-PRINTABLE:League Game Dark Mon 70 2526 vs Light Mon 70 2526
LOCATION;ENCODING=QUOTED-PRINTABLE:Richcraft Sensplex East
PRIORITY:3
END:VEVENT

BEGIN:VEVENT
UID:3417-20251006103000@elderskatesmen.itzhockey.com
DTSTART:20251006T103000
DTEND:20251006T113000
SUMMARY;ENCODING=QUOTED-PRINTABLE:League Game Light Mon 70 2526 vs Dark Mon 70 2526
LOCATION;ENCODING=QUOTED-PRINTABLE:Richcraft Sensplex East
PRIORITY:3
END:VEVENT

BEGIN:VEVENT
UID:3418-20251013110000@elderskatesmen.itzhockey.com
DTSTART:20251013T110000
DTEND:20251013T120000
SUMMARY;ENCODING=QUOTED-PRINTABLE:League Game Dark Mon 70 2526 vs Light Mon 70 2526
LOCATION;ENCODING=QUOTED-PRINTABLE:Richcraft Sensplex East
PRIORITY:3
END:VEVENT

BEGIN:VEVENT
UID:3419-20251020103000@elderskatesmen.itzhockey.com
DTSTART:20251020T103000
DTEND:20251020T113000
SUMMARY;ENCODING=QUOTED-PRINTABLE:League Game Light Mon 70 2526 vs Dark Mon 70 2526
LOCATION;ENCODING=QUOTED-PRINTABLE:Richcraft Sensplex East
PRIORITY:3
END:VEVENT

BEGIN:VEVENT
UID:3420-20251027103000@elderskatesmen.itzhockey.com
DTSTART:20251027T103000
DTEND:20251027T113000
SUMMARY;ENCODING=QUOTED-PRINTABLE:League Game Dark Mon 70 2526 vs Light Mon 70 2526
LOCATION;ENCODING=QUOTED-PRINTABLE:Richcraft Sensplex East
PRIORITY:3
END:VEVENT

BEGIN:VEVENT
UID:3421-20251103103000@elderskatesmen.itzhockey.com
DTSTART:20251103T103000
DTEND:20251103T113000
SUMMARY;ENCODING=QUOTED-PRINTABLE:League Game Light Mon 70 2526 vs Dark Mon 70 2526
LOCATION;ENCODING=QUOTED-PRINTABLE:Richcraft Sensplex East
PRIORITY:3
END:VEVENT

BEGIN:VEVENT
UID:3422-20251110103000@elderskatesmen.itzhockey.com
DTSTART:20251110T103000
DTEND:20251110T113000
SUMMARY;ENCODING=QUOTED-PRINTABLE:League Game Dark Mon 70 2526 vs Light Mon 70 2526
LOCATION;ENCODING=QUOTED-PRINTABLE:Richcraft Sensplex East
PRIORITY:3
END:VEVENT

BEGIN:VEVENT
UID:3423-20251117103000@elderskatesmen.itzhockey.com
DTSTART:20251117T103000
DTEND:20251117T113000
SUMMARY;ENCODING=QUOTED-PRINTABLE:League Game Light Mon 70 2526 vs Dark Mon 70 2526
LOCATION;ENCODING=QUOTED-PRINTABLE:Richcraft Sensplex East
PRIORITY:3
END:VEVENT

BEGIN:VEVENT
UID:3424-20251124103000@elderskatesmen.itzhockey.com
DTSTART:20251124T103000
DTEND:20251124T113000
SUMMARY;ENCODING=QUOTED-PRINTABLE:League Game Dark Mon 70 2526 vs Light Mon 70 2526
LOCATION;ENCODING=QUOTED-PRINTABLE:Richcraft Sensplex East
PRIORITY:3
END:VEVENT

BEGIN:VEVENT
UID:3425-20251201103000@elderskatesmen.itzhockey.com
DTSTART:20251201T103000
DTEND:20251201T113000
SUMMARY;ENCODING=QUOTED-PRINTABLE:League Game Light Mon 70 2526 vs Dark Mon 70 2526
LOCATION;ENCODING=QUOTED-PRINTABLE:Richcraft Sensplex East
PRIORITY:3
END:VEVENT

BEGIN:VEVENT
UID:3426-20251208103000@elderskatesmen.itzhockey.com
DTSTART:20251208T103000
DTEND:20251208T113000
SUMMARY;ENCODING=QUOTED-PRINTABLE:League Game Dark Mon 70 2526 vs Light Mon 70 2526
LOCATION;ENCODING=QUOTED-PRINTABLE:Richcraft Sensplex East
PRIORITY:3
END:VEVENT

BEGIN:VEVENT
UID:3427-20251215103000@elderskatesmen.itzhockey.com
DTSTART:20251215T103000
DTEND:20251215T113000
SUMMARY;ENCODING=QUOTED-PRINTABLE:League Game Light Mon 70 2526 vs Dark Mon 70 2526
LOCATION;ENCODING=QUOTED-PRINTABLE:Richcraft Sensplex East
PRIORITY:3
END:VEVENT

BEGIN:VEVENT
UID:3428-20251222103000@elderskatesmen.itzhockey.com
DTSTART:20251222T103000
DTEND:20251222T113000
SUMMARY;ENCODING=QUOTED-PRINTABLE:League Game Dark Mon 70 2526 vs Light Mon 70 2526
LOCATION;ENCODING=QUOTED-PRINTABLE:Richcraft Sensplex East
PRIORITY:3
END:VEVENT

BEGIN:VEVENT
UID:3430-20260105103000@elderskatesmen.itzhockey.com
DTSTART:20260105T103000
DTEND:20260105T113000
SUMMARY;ENCODING=QUOTED-PRINTABLE:League Game Dark Mon 70 2526 vs Light Mon 70 2526
LOCATION;ENCODING=QUOTED-PRINTABLE:Richcraft Sensplex East
PRIORITY:3
END:VEVENT

BEGIN:VEVENT
UID:3431-20260112103000@elderskatesmen.itzhockey.com
DTSTART:20260112T103000
DTEND:20260112T113000
SUMMARY;ENCODING=QUOTED-PRINTABLE:League Game Light Mon 70 2526 vs Dark Mon 70 2526
LOCATION;ENCODING=QUOTED-PRINTABLE:Richcraft Sensplex East
PRIORITY:3
END:VEVENT

BEGIN:VEVENT
UID:3432-20260119103000@elderskatesmen.itzhockey.com
DTSTART:20260119T103000
DTEND:20260119T113000
SUMMARY;ENCODING=QUOTED-PRINTABLE:League Game Dark Mon 70 2526 vs Light Mon 70 2526
LOCATION;ENCODING=QUOTED-PRINTABLE:Richcraft Sensplex East
PRIORITY:3
END:VEVENT

BEGIN:VEVENT
UID:3433-20260126103000@elderskatesmen.itzhockey.com
DTSTART:20260126T103000
DTEND:20260126T113000
SUMMARY;ENCODING=QUOTED-PRINTABLE:League Game Light Mon 70 2526 vs Dark Mon 70 2526
LOCATION;ENCODING=QUOTED-PRINTABLE:Richcraft Sensplex East
PRIORITY:3
END:VEVENT

BEGIN:VEVENT
UID:3434-20260202103000@elderskatesmen.itzhockey.com
DTSTART:20260202T103000
DTEND:20260202T113000
SUMMARY;ENCODING=QUOTED-PRINTABLE:League Game Dark Mon 70 2526 vs Light Mon 70 2526
LOCATION;ENCODING=QUOTED-PRINTABLE:Richcraft Sensplex East
PRIORITY:3
END:VEVENT

BEGIN:VEVENT
UID:3435-20260209103000@elderskatesmen.itzhockey.com
DTSTART:20260209T103000
DTEND:20260209T113000
SUMMARY;ENCODING=QUOTED-PRINTABLE:League Game Light Mon 70 2526 vs Dark Mon 70 2526
LOCATION;ENCODING=QUOTED-PRINTABLE:Richcraft Sensplex East
PRIORITY:3
END:VEVENT

BEGIN:VEVENT
UID:3436-20260216103000@elderskatesmen.itzhockey.com
DTSTART:20260216T103000
DTEND:20260216T113000
SUMMARY;ENCODING=QUOTED-PRINTABLE:League Game Dark Mon 70 2526 vs Light Mon 70 2526
LOCATION;ENCODING=QUOTED-PRINTABLE:Richcraft Sensplex East
PRIORITY:3
END:VEVENT

BEGIN:VEVENT
UID:3437-20260223103000@elderskatesmen.itzhockey.com
DTSTART:20260223T103000
DTEND:20260223T113000
SUMMARY;ENCODING=QUOTED-PRINTABLE:League Game Light Mon 70 2526 vs Dark Mon 70 2526
LOCATION;ENCODING=QUOTED-PRINTABLE:Richcraft Sensplex East
PRIORITY:3
END:VEVENT

BEGIN:VEVENT
UID:3438-20260302103000@elderskatesmen.itzhockey.com
DTSTART:20260302T103000
DTEND:20260302T113000
SUMMARY;ENCODING=QUOTED-PRINTABLE:League Game Dark Mon 70 2526 vs Light Mon 70 2526
LOCATION;ENCODING=QUOTED-PRINTABLE:Richcraft Sensplex East
PRIORITY:3
END:VEVENT

BEGIN:VEVENT
UID:3439-20260309103000@elderskatesmen.itzhockey.com
DTSTART:20260309T103000
DTEND:20260309T113000
SUMMARY;ENCODING=QUOTED-PRINTABLE:League Game Light Mon 70 2526 vs Dark Mon 70 2526
LOCATION;ENCODING=QUOTED-PRINTABLE:Richcraft Sensplex East
PRIORITY:3
END:VEVENT

BEGIN:VEVENT
UID:3440-20260316101500@elderskatesmen.itzhockey.com
DTSTART:20260316T101500
DTEND:20260316T111500
SUMMARY;ENCODING=QUOTED-PRINTABLE:League Game Dark Mon 70 2526 vs Light Mon 70 2526
LOCATION;ENCODING=QUOTED-PRINTABLE:Richcraft Sensplex East
PRIORITY:3
END:VEVENT

BEGIN:VEVENT
UID:3441-20260323103000@elderskatesmen.itzhockey.com
DTSTART:20260323T103000
DTEND:20260323T113000
SUMMARY;ENCODING=QUOTED-PRINTABLE:League Game Light Mon 70 2526 vs Dark Mon 70 2526
LOCATION;ENCODING=QUOTED-PRINTABLE:Richcraft Sensplex East
PRIORITY:3
END:VEVENT

BEGIN:VEVENT
UID:3442-20260330103000@elderskatesmen.itzhockey.com
DTSTART:20260330T103000
DTEND:20260330T113000
SUMMARY;ENCODING=QUOTED-PRINTABLE:League Game Dark Mon 70 2526 vs Light Mon 70 2526
LOCATION;ENCODING=QUOTED-PRINTABLE:Richcraft Sensplex East
PRIORITY:3
END:VEVENT

BEGIN:VEVENT
UID:3443-20260406103000@elderskatesmen.itzhockey.com
DTSTART:20260406T103000
DTEND:20260406T113000
SUMMARY;ENCODING=QUOTED-PRINTABLE:League Game Light Mon 70 2526 vs Dark Mon 70 2526
LOCATION;ENCODING=QUOTED-PRINTABLE:Richcraft Sensplex East
PRIORITY:3
END:VEVENT

BEGIN:VEVENT
UID:3444-20260413103000@elderskatesmen.itzhockey.com
DTSTART:20260413T103000
DTEND:20260413T113000
SUMMARY;ENCODING=QUOTED-PRINTABLE:League Game Dark Mon 70 2526 vs Light Mon 70 2526
LOCATION;ENCODING=QUOTED-PRINTABLE:Richcraft Sensplex East
PRIORITY:3
END:VEVENT

BEGIN:VEVENT
UID:3445-20260420103000@elderskatesmen.itzhockey.com
DTSTART:20260420T103000
DTEND:20260420T113000
SUMMARY;ENCODING=QUOTED-PRINTABLE:League Game Light Mon 70 2526 vs Dark Mon 70 2526
LOCATION;ENCODING=QUOTED-PRINTABLE:Richcraft Sensplex East
PRIORITY:3
END:VEVENT

END:VCALENDAR