BEGIN:VCALENDAR
PRODID:-//Thu 65 plus - Thu 65A 2526//elderskatesmen.itzhockey.com//
X-WR-CALNAME:Thu 65 plus - Thu 65A 2526
X-WR-TIMEZONE:America/Toronto

BEGIN:VEVENT
UID:3788-20250925101500@elderskatesmen.itzhockey.com
DTSTART:20250925T101500
DTEND:20250925T111500
SUMMARY;ENCODING=QUOTED-PRINTABLE:League Game Light Thu 65 2526 vs Dark Thu 65 2526
LOCATION;ENCODING=QUOTED-PRINTABLE:Richcraft Sensplex East
PRIORITY:3
END:VEVENT

BEGIN:VEVENT
UID:3789-20251002101500@elderskatesmen.itzhockey.com
DTSTART:20251002T101500
DTEND:20251002T111500
SUMMARY;ENCODING=QUOTED-PRINTABLE:League Game Dark Thu 65 2526 vs Light Thu 65 2526
LOCATION;ENCODING=QUOTED-PRINTABLE:Richcraft Sensplex East
PRIORITY:3
END:VEVENT

BEGIN:VEVENT
UID:3790-20251009101500@elderskatesmen.itzhockey.com
DTSTART:20251009T101500
DTEND:20251009T111500
SUMMARY;ENCODING=QUOTED-PRINTABLE:League Game Light Thu 65 2526 vs Dark Thu 65 2526
LOCATION;ENCODING=QUOTED-PRINTABLE:Richcraft Sensplex East
PRIORITY:3
END:VEVENT

BEGIN:VEVENT
UID:3791-20251016101500@elderskatesmen.itzhockey.com
DTSTART:20251016T101500
DTEND:20251016T111500
SUMMARY;ENCODING=QUOTED-PRINTABLE:League Game Dark Thu 65 2526 vs Light Thu 65 2526
LOCATION;ENCODING=QUOTED-PRINTABLE:Richcraft Sensplex East
PRIORITY:3
END:VEVENT

BEGIN:VEVENT
UID:3792-20251023101500@elderskatesmen.itzhockey.com
DTSTART:20251023T101500
DTEND:20251023T111500
SUMMARY;ENCODING=QUOTED-PRINTABLE:League Game Light Thu 65 2526 vs Dark Thu 65 2526
LOCATION;ENCODING=QUOTED-PRINTABLE:Richcraft Sensplex East
PRIORITY:3
END:VEVENT

BEGIN:VEVENT
UID:3793-20251030101500@elderskatesmen.itzhockey.com
DTSTART:20251030T101500
DTEND:20251030T111500
SUMMARY;ENCODING=QUOTED-PRINTABLE:League Game Dark Thu 65 2526 vs Light Thu 65 2526
LOCATION;ENCODING=QUOTED-PRINTABLE:Richcraft Sensplex East
PRIORITY:3
END:VEVENT

BEGIN:VEVENT
UID:3794-20251106101500@elderskatesmen.itzhockey.com
DTSTART:20251106T101500
DTEND:20251106T111500
SUMMARY;ENCODING=QUOTED-PRINTABLE:League Game Light Thu 65 2526 vs Dark Thu 65 2526
LOCATION;ENCODING=QUOTED-PRINTABLE:Richcraft Sensplex East
PRIORITY:3
END:VEVENT

BEGIN:VEVENT
UID:3795-20251113101500@elderskatesmen.itzhockey.com
DTSTART:20251113T101500
DTEND:20251113T111500
SUMMARY;ENCODING=QUOTED-PRINTABLE:League Game Dark Thu 65 2526 vs Light Thu 65 2526
LOCATION;ENCODING=QUOTED-PRINTABLE:Richcraft Sensplex East
PRIORITY:3
END:VEVENT

BEGIN:VEVENT
UID:3796-20251120100000@elderskatesmen.itzhockey.com
DTSTART:20251120T100000
DTEND:20251120T110000
SUMMARY;ENCODING=QUOTED-PRINTABLE:League Game Light Thu 65 2526 vs Dark Thu 65 2526
LOCATION;ENCODING=QUOTED-PRINTABLE:Richcraft Sensplex East
PRIORITY:3
END:VEVENT

BEGIN:VEVENT
UID:3797-20251127100000@elderskatesmen.itzhockey.com
DTSTART:20251127T100000
DTEND:20251127T110000
SUMMARY;ENCODING=QUOTED-PRINTABLE:League Game Dark Thu 65 2526 vs Light Thu 65 2526
LOCATION;ENCODING=QUOTED-PRINTABLE:Richcraft Sensplex East
PRIORITY:3
END:VEVENT

BEGIN:VEVENT
UID:3798-20251204101500@elderskatesmen.itzhockey.com
DTSTART:20251204T101500
DTEND:20251204T111500
SUMMARY;ENCODING=QUOTED-PRINTABLE:League Game Light Thu 65 2526 vs Dark Thu 65 2526
LOCATION;ENCODING=QUOTED-PRINTABLE:Richcraft Sensplex East
PRIORITY:3
END:VEVENT

BEGIN:VEVENT
UID:3799-20251211101500@elderskatesmen.itzhockey.com
DTSTART:20251211T101500
DTEND:20251211T111500
SUMMARY;ENCODING=QUOTED-PRINTABLE:League Game Dark Thu 65 2526 vs Light Thu 65 2526
LOCATION;ENCODING=QUOTED-PRINTABLE:Richcraft Sensplex East
PRIORITY:3
END:VEVENT

BEGIN:VEVENT
UID:3800-20251218101500@elderskatesmen.itzhockey.com
DTSTART:20251218T101500
DTEND:20251218T111500
SUMMARY;ENCODING=QUOTED-PRINTABLE:League Game Light Thu 65 2526 vs Dark Thu 65 2526
LOCATION;ENCODING=QUOTED-PRINTABLE:Richcraft Sensplex East
PRIORITY:3
END:VEVENT

BEGIN:VEVENT
UID:3802-20260101100000@elderskatesmen.itzhockey.com
DTSTART:20260101T100000
DTEND:20260101T110000
SUMMARY;ENCODING=QUOTED-PRINTABLE:League Game Light Thu 65 2526 vs Dark Thu 65 2526
LOCATION;ENCODING=QUOTED-PRINTABLE:Richcraft Sensplex East
PRIORITY:3
END:VEVENT

BEGIN:VEVENT
UID:3803-20260108101500@elderskatesmen.itzhockey.com
DTSTART:20260108T101500
DTEND:20260108T111500
SUMMARY;ENCODING=QUOTED-PRINTABLE:League Game Dark Thu 65 2526 vs Light Thu 65 2526
LOCATION;ENCODING=QUOTED-PRINTABLE:Richcraft Sensplex East
PRIORITY:3
END:VEVENT

BEGIN:VEVENT
UID:3804-20260115101500@elderskatesmen.itzhockey.com
DTSTART:20260115T101500
DTEND:20260115T111500
SUMMARY;ENCODING=QUOTED-PRINTABLE:League Game Light Thu 65 2526 vs Dark Thu 65 2526
LOCATION;ENCODING=QUOTED-PRINTABLE:Richcraft Sensplex East
PRIORITY:3
END:VEVENT

BEGIN:VEVENT
UID:3805-20260122101500@elderskatesmen.itzhockey.com
DTSTART:20260122T101500
DTEND:20260122T111500
SUMMARY;ENCODING=QUOTED-PRINTABLE:League Game Dark Thu 65 2526 vs Light Thu 65 2526
LOCATION;ENCODING=QUOTED-PRINTABLE:Richcraft Sensplex East
PRIORITY:3
END:VEVENT

BEGIN:VEVENT
UID:3806-20260129101500@elderskatesmen.itzhockey.com
DTSTART:20260129T101500
DTEND:20260129T111500
SUMMARY;ENCODING=QUOTED-PRINTABLE:League Game Light Thu 65 2526 vs Dark Thu 65 2526
LOCATION;ENCODING=QUOTED-PRINTABLE:Richcraft Sensplex East
PRIORITY:3
END:VEVENT

BEGIN:VEVENT
UID:3807-20260205101500@elderskatesmen.itzhockey.com
DTSTART:20260205T101500
DTEND:20260205T111500
SUMMARY;ENCODING=QUOTED-PRINTABLE:League Game Dark Thu 65 2526 vs Light Thu 65 2526
LOCATION;ENCODING=QUOTED-PRINTABLE:Richcraft Sensplex East
PRIORITY:3
END:VEVENT

BEGIN:VEVENT
UID:3808-20260212100000@elderskatesmen.itzhockey.com
DTSTART:20260212T100000
DTEND:20260212T110000
SUMMARY;ENCODING=QUOTED-PRINTABLE:League Game Light Thu 65 2526 vs Dark Thu 65 2526
LOCATION;ENCODING=QUOTED-PRINTABLE:Richcraft Sensplex East
PRIORITY:3
END:VEVENT

BEGIN:VEVENT
UID:3809-20260219101500@elderskatesmen.itzhockey.com
DTSTART:20260219T101500
DTEND:20260219T111500
SUMMARY;ENCODING=QUOTED-PRINTABLE:League Game Dark Thu 65 2526 vs Light Thu 65 2526
LOCATION;ENCODING=QUOTED-PRINTABLE:Richcraft Sensplex East
PRIORITY:3
END:VEVENT

BEGIN:VEVENT
UID:3810-20260226101500@elderskatesmen.itzhockey.com
DTSTART:20260226T101500
DTEND:20260226T111500
SUMMARY;ENCODING=QUOTED-PRINTABLE:League Game Light Thu 65 2526 vs Dark Thu 65 2526
LOCATION;ENCODING=QUOTED-PRINTABLE:Richcraft Sensplex East
PRIORITY:3
END:VEVENT

BEGIN:VEVENT
UID:3811-20260305101500@elderskatesmen.itzhockey.com
DTSTART:20260305T101500
DTEND:20260305T111500
SUMMARY;ENCODING=QUOTED-PRINTABLE:League Game Dark Thu 65 2526 vs Light Thu 65 2526
LOCATION;ENCODING=QUOTED-PRINTABLE:Richcraft Sensplex East
PRIORITY:3
END:VEVENT

BEGIN:VEVENT
UID:3812-20260312101500@elderskatesmen.itzhockey.com
DTSTART:20260312T101500
DTEND:20260312T111500
SUMMARY;ENCODING=QUOTED-PRINTABLE:League Game Light Thu 65 2526 vs Dark Thu 65 2526
LOCATION;ENCODING=QUOTED-PRINTABLE:Richcraft Sensplex East
PRIORITY:3
END:VEVENT

BEGIN:VEVENT
UID:3813-20260319100000@elderskatesmen.itzhockey.com
DTSTART:20260319T100000
DTEND:20260319T110000
SUMMARY;ENCODING=QUOTED-PRINTABLE:League Game Dark Thu 65 2526 vs Light Thu 65 2526
LOCATION;ENCODING=QUOTED-PRINTABLE:Richcraft Sensplex East
PRIORITY:3
END:VEVENT

BEGIN:VEVENT
UID:3814-20260326101500@elderskatesmen.itzhockey.com
DTSTART:20260326T101500
DTEND:20260326T111500
SUMMARY;ENCODING=QUOTED-PRINTABLE:League Game Light Thu 65 2526 vs Dark Thu 65 2526
LOCATION;ENCODING=QUOTED-PRINTABLE:Richcraft Sensplex East
PRIORITY:3
END:VEVENT

BEGIN:VEVENT
UID:3815-20260402101500@elderskatesmen.itzhockey.com
DTSTART:20260402T101500
DTEND:20260402T111500
SUMMARY;ENCODING=QUOTED-PRINTABLE:League Game Dark Thu 65 2526 vs Light Thu 65 2526
LOCATION;ENCODING=QUOTED-PRINTABLE:Richcraft Sensplex East
PRIORITY:3
END:VEVENT

BEGIN:VEVENT
UID:3816-20260409101500@elderskatesmen.itzhockey.com
DTSTART:20260409T101500
DTEND:20260409T111500
SUMMARY;ENCODING=QUOTED-PRINTABLE:League Game Light Thu 65 2526 vs Dark Thu 65 2526
LOCATION;ENCODING=QUOTED-PRINTABLE:Richcraft Sensplex East
PRIORITY:3
END:VEVENT

BEGIN:VEVENT
UID:3817-20260416093000@elderskatesmen.itzhockey.com
DTSTART:20260416T093000
DTEND:20260416T103000
SUMMARY;ENCODING=QUOTED-PRINTABLE:League Game Dark Thu 65 2526 vs Light Thu 65 2526
LOCATION;ENCODING=QUOTED-PRINTABLE:Richcraft Sensplex East
PRIORITY:3
END:VEVENT

BEGIN:VEVENT
UID:3818-20260423101500@elderskatesmen.itzhockey.com
DTSTART:20260423T101500
DTEND:20260423T111500
SUMMARY;ENCODING=QUOTED-PRINTABLE:League Game Light Thu 65 2526 vs Dark Thu 65 2526
LOCATION;ENCODING=QUOTED-PRINTABLE:Richcraft Sensplex East
PRIORITY:3
END:VEVENT

END:VCALENDAR